BEGIN:VCALENDAR
VERSION:2.0
PRODID:-//wp-events-plugin.com//7.2.3.1//EN
TZID:America/Toronto
X-WR-TIMEZONE:America/Toronto
BEGIN:VEVENT
UID:119@ecole-secondairedeneufchatel.cssc.gouv.qc.ca
DTSTART;TZID=America/Toronto:20231005T173000
DTEND;TZID=America/Toronto:20231005T200000
DTSTAMP:20230915T151413Z
URL:https://ecole-secondairedeneufchatel.cssc.gouv.qc.ca/evenements/visite
 -de-lecole/
SUMMARY:Visite de l'école
DESCRIPTION:Viens visiter ta future école.  On t'attend jeudi le 5 octobr
 e prochain de 17:30 à 20:00.
CATEGORIES:Communautaire
LOCATION:École secondaire de Neufchâtel\, 3600\, Avenue Chauveau\, Québe
 c\, QC\, G2C 1A1\, Québec\, Canada
X-APPLE-STRUCTURED-LOCATION;VALUE=URI;X-ADDRESS=3600\, Avenue Chauveau\, Qu
 ébec\, QC\, G2C 1A1\, Québec\, Canada;X-APPLE-RADIUS=100;X-TITLE=École 
 secondaire de Neufchâtel:geo:0,0
END:VEVENT
BEGIN:VTIMEZONE
TZID:America/Toronto
X-LIC-LOCATION:America/Toronto
BEGIN:DAYLIGHT
DTSTART:20230312T030000
TZOFFSETFROM:-0500
TZOFFSETTO:-0400
TZNAME:EDT
END:DAYLIGHT
END:VTIMEZONE
END:VCALENDAR