BEGIN:VCALENDAR
VERSION:2.0
PRODID:-//wp-events-plugin.com//7.2.3.1//EN
TZID:America/Toronto
X-WR-TIMEZONE:America/Toronto
BEGIN:VEVENT
UID:186@ecole-secondairedeneufchatel.cssc.gouv.qc.ca
DTSTART;TZID=America/Toronto;VALUE=DATE:20260205
DTEND;TZID=America/Toronto;VALUE=DATE:20260206
DTSTAMP:20260203T163654Z
URL:https://ecole-secondairedeneufchatel.cssc.gouv.qc.ca/evenements/triath
 lon-des-generations-fillactive/
SUMMARY:Triathlon des générations - FILLACTIVE
DESCRIPTION:
CATEGORIES:Sportif
END:VEVENT
BEGIN:VTIMEZONE
TZID:America/Toronto
X-LIC-LOCATION:America/Toronto
BEGIN:STANDARD
DTSTART:20251102T010000
TZOFFSETFROM:-0400
TZOFFSETTO:-0500
TZNAME:EST
END:STANDARD
END:VTIMEZONE
END:VCALENDAR