BEGIN:VCALENDAR
VERSION:2.0
PRODID:-//wp-events-plugin.com//7.2.3.1//EN
TZID:America/Toronto
X-WR-TIMEZONE:America/Toronto
BEGIN:VEVENT
UID:175@ecole-secondairedeneufchatel.cssc.gouv.qc.ca
DTSTART;TZID=America/Toronto:20260513T183000
DTEND;TZID=America/Toronto:20260513T213000
DTSTAMP:20260331T192242Z
URL:https://ecole-secondairedeneufchatel.cssc.gouv.qc.ca/evenements/theatr
 e-les-productions-premiere-secondaire-soir-1/
SUMMARY:Théâtre les Productions Première Secondaire
DESCRIPTION:Les élèves de première secondaire présentent une pièce de 
 théâtre inspirée et adaptée de l’univers Disney. À travers cette cr
 éation\, ils feront découvrir une histoire pleine de magie\, d’émotio
 n et d’aventure\, portée par leur créativité et leur enthousiasme. Le
  spectacle réunit des élèves de Stage Band\, de la chorale\, de la dans
 e et du théâtre\, offrant une performance riche et multidisciplinaire. U
 n moment charmant qui plaira aux petits comme aux grands!
CATEGORIES:Artistique
END:VEVENT
BEGIN:VTIMEZONE
TZID:America/Toronto
X-LIC-LOCATION:America/Toronto
BEGIN:DAYLIGHT
DTSTART:20260308T030000
TZOFFSETFROM:-0500
TZOFFSETTO:-0400
TZNAME:EDT
END:DAYLIGHT
END:VTIMEZONE
END:VCALENDAR