BEGIN:VCALENDAR
VERSION:2.0
PRODID:-//wp-events-plugin.com//7.2.3.1//EN
TZID:America/Toronto
X-WR-TIMEZONE:America/Toronto
BEGIN:VEVENT
UID:177@ecole-secondairedeneufchatel.cssc.gouv.qc.ca
DTSTART;TZID=America/Toronto:20260525T183000
DTEND;TZID=America/Toronto:20260525T213000
DTSTAMP:20260203T135310Z
URL:https://ecole-secondairedeneufchatel.cssc.gouv.qc.ca/evenements/stage-
 band-soir-1/
SUMMARY:Stage Band (Soir 1)
DESCRIPTION:Le spectacle de fin d'année des élèves de Stage Band de l’
 école secondaire de Neufchâtel mettra en lumière le talent et la créat
 ivité des jeunes musiciens. Au programme : des performances dynamiques et
  entraînantes qui célèbrent la musique et le travail accompli tout au l
 ong de l’année. Une soirée à ne pas manquer pour vibrer au rythme des
  élèves !
CATEGORIES:Musique
END:VEVENT
BEGIN:VTIMEZONE
TZID:America/Toronto
X-LIC-LOCATION:America/Toronto
BEGIN:DAYLIGHT
DTSTART:20260308T030000
TZOFFSETFROM:-0500
TZOFFSETTO:-0400
TZNAME:EDT
END:DAYLIGHT
END:VTIMEZONE
END:VCALENDAR