BEGIN:VCALENDAR
VERSION:2.0
PRODID:-//wp-events-plugin.com//7.2.3.1//EN
TZID:America/Toronto
X-WR-TIMEZONE:America/Toronto
BEGIN:VEVENT
UID:114@ecole-secondairedeneufchatel.cssc.gouv.qc.ca
DTSTART;TZID=America/Toronto:20221201T190000
DTEND;TZID=America/Toronto:20221201T223000
DTSTAMP:20221110T165539Z
URL:https://ecole-secondairedeneufchatel.cssc.gouv.qc.ca/evenements/specta
 cle-monsieur-scrooge/
SUMMARY:Spectacle Monsieur Scrooge
DESCRIPTION:Les billets seront disponibles au local des techniciens en lois
 irs.\n\nIl est possible de se procurer des billets sur les heures de pause
  et du midi  à compter du 9 novembre (Comédiens de la production seulem
 ent) et ce\, jusqu’au 15 novembre inclusivement.\n\nÀ compter du mercre
 di 16 novembre\, les billets seront vendus à tous les élèves de l’éc
 ole.\n\nIl sera également possible de se procurer des billets lors de la 
 soirée de l'évènement à partir de 18 h.\n\nCoût des billets:\n5$ enfa
 nt et élève\n10$ adulte
CATEGORIES:Culturel
END:VEVENT
BEGIN:VTIMEZONE
TZID:America/Toronto
X-LIC-LOCATION:America/Toronto
BEGIN:STANDARD
DTSTART:20221106T010000
TZOFFSETFROM:-0400
TZOFFSETTO:-0500
TZNAME:EST
END:STANDARD
END:VTIMEZONE
END:VCALENDAR