BEGIN:VCALENDAR
VERSION:2.0
PRODID:-//wp-events-plugin.com//7.2.3.1//EN
TZID:America/Toronto
X-WR-TIMEZONE:America/Toronto
BEGIN:VEVENT
UID:171@ecole-secondairedeneufchatel.cssc.gouv.qc.ca
DTSTART;TZID=America/Toronto:20250924T180000
DTEND;TZID=America/Toronto:20250924T193000
DTSTAMP:20250910T120118Z
URL:https://ecole-secondairedeneufchatel.cssc.gouv.qc.ca/evenements/soiree
 -dinformation-virtuelle-2/
SUMMARY:Soirée d’information virtuelle
DESCRIPTION:\n\nDe 18:00 à 18:30\n\nRencontre d’information générale\n
 \n\nRejoignez la réunion maintenant\n\n\n\nRejoignez la réunion maintena
 nt\nNuméro de réunion : 231 239 922 031 4\nCode secret : uM2Qk7YK\n\
 n&nbsp\;\nDe 18:30 à 19:00\nPrésentation du programme particulier Soccer
 \n\nRejoignez la réunion maintenant\nNuméro de réunion : 296 790 148 
 044 2\nCode secret : 7LA7wu29\n\n\n&nbsp\;\nDe 19:00 à 19:30\nPrésenta
 tion du programme particulier PÉI\n\nRejoignez la réunion maintenant\nNu
 méro de réunion : 211 147 358 578\nCode secret : kT9sT9qQ\n\n
CATEGORIES:Administratif
END:VEVENT
BEGIN:VTIMEZONE
TZID:America/Toronto
X-LIC-LOCATION:America/Toronto
BEGIN:DAYLIGHT
DTSTART:20250309T030000
TZOFFSETFROM:-0500
TZOFFSETTO:-0400
TZNAME:EDT
END:DAYLIGHT
END:VTIMEZONE
END:VCALENDAR