BEGIN:VCALENDAR
VERSION:2.0
PRODID:-//wp-events-plugin.com//7.2.3.1//EN
TZID:America/Toronto
X-WR-TIMEZONE:America/Toronto
BEGIN:VEVENT
UID:118@ecole-secondairedeneufchatel.cssc.gouv.qc.ca
DTSTART;TZID=America/Toronto:20230925T180000
DTEND;TZID=America/Toronto:20230925T203000
DTSTAMP:20230914T230831Z
URL:https://ecole-secondairedeneufchatel.cssc.gouv.qc.ca/evenements/rencon
 tres-dinformation-virtuelles/
SUMMARY:Rencontres d'information virtuelles
DESCRIPTION:Des rencontres d'information virtuelles auront lieu selon l'hor
 aire ci-dessous:\nDe 18:00 à 18:30\nRencontre d’information générale\
 nCliquez ici pour rejoindre la réunion\nID de la réunion : 255 300 627 7
 52\nCode secret : 3XCXcb\nTélécharger Teams | Rejoindre sur le web\n\nDe
  18:30 à 19:15\nPrésentation du programme d’éducation intermédiaire 
 (PEI)\nCliquez ici pour rejoindre la réunion\nID de la réunion : 238 635
  862 857\nCode secret : j6JMBc\nTélécharger Teams | Rejoindre sur le web
 \n\nDe 19:15 à 19:45\nPrésentation du programme soccer\nCliquez ici pour
  rejoindre la réunion\nID de la réunion : 246 564 241 251\nCode secret :
  jRnSuJ\nTélécharger Teams | Rejoindre sur le web
CATEGORIES:Administratif,Communautaire
END:VEVENT
BEGIN:VTIMEZONE
TZID:America/Toronto
X-LIC-LOCATION:America/Toronto
BEGIN:DAYLIGHT
DTSTART:20230312T030000
TZOFFSETFROM:-0500
TZOFFSETTO:-0400
TZNAME:EDT
END:DAYLIGHT
END:VTIMEZONE
END:VCALENDAR