BEGIN:VCALENDAR
VERSION:2.0
PRODID:-//wp-events-plugin.com//7.2.3.1//EN
TZID:America/Toronto
X-WR-TIMEZONE:America/Toronto
BEGIN:VEVENT
UID:53@ecole-secondairedeneufchatel.cssc.gouv.qc.ca
DTSTART;TZID=America/Toronto:20220824T183000
DTEND;TZID=America/Toronto:20220824T200000
DTSTAMP:20220715T121538Z
URL:https://ecole-secondairedeneufchatel.cssc.gouv.qc.ca/evenements/rencon
 tre-pour-tous-les-parents-de-secondaire-1/
SUMMARY:Rencontre pour tous les parents de secondaire 1
DESCRIPTION:Seuls les parents sont invités par manque d’espace.\n\nSuite
  à cette rencontre\, il y aura une rencontre pour :\n● Les parents des 
 élèves du PEI secondaire 1\n● Les parents des élèves du programme de
  soccer
CATEGORIES:Administratif
END:VEVENT
BEGIN:VTIMEZONE
TZID:America/Toronto
X-LIC-LOCATION:America/Toronto
BEGIN:DAYLIGHT
DTSTART:20220313T030000
TZOFFSETFROM:-0500
TZOFFSETTO:-0400
TZNAME:EDT
END:DAYLIGHT
END:VTIMEZONE
END:VCALENDAR