BEGIN:VCALENDAR
VERSION:2.0
PRODID:-//wp-events-plugin.com//7.2.3.1//EN
TZID:America/Toronto
X-WR-TIMEZONE:America/Toronto
BEGIN:VEVENT
UID:187@ecole-secondairedeneufchatel.cssc.gouv.qc.ca
DTSTART;TZID=America/Toronto:20260309T000000
DTEND;TZID=America/Toronto:20260313T000000
DTSTAMP:20260213T163719Z
URL:https://ecole-secondairedeneufchatel.cssc.gouv.qc.ca/evenements/period
 e-de-choix-de-cours-2026-2027/
SUMMARY:PÉRIODE DE CHOIX DE COURS 2026-2027
DESCRIPTION:L’École secondaire de Neufchâtel informe les élèves et le
 urs parents qu’à la suite de la période d’inscriptions\, la sélecti
 on des cours pour l’année scolaire 2026-2027 se tiendra du 9 au 13 mars
  2026.\n\nDurant cette période\, les élèves auront l’occasion de fair
 e leurs choix de cours en fonction de leur parcours scolaire\, de leurs in
 térêts et de leurs objectifs futurs.\n\n📌 À noter :\n\n 	Les informa
 tions détaillées concernant la procédure seront transmises par courriel
 .\n 	Les parents sont invités à accompagner leur enfant dans cette déma
 rche importante.\n 	Les conseillers d’orientation et les membres du pers
 onnel demeurent disponibles pour répondre aux questions.\n\nNous encourag
 eons tous les élèves à prendre le temps de bien réfléchir à leurs ch
 oix afin de planifier une année scolaire à la hauteur de leurs aspiratio
 ns.\n\nPour toute question\, n’hésitez pas à communiquer avec le secr
 étariat de l’école.
CATEGORIES:Administratif
END:VEVENT
BEGIN:VTIMEZONE
TZID:America/Toronto
X-LIC-LOCATION:America/Toronto
BEGIN:DAYLIGHT
DTSTART:20260308T030000
TZOFFSETFROM:-0500
TZOFFSETTO:-0400
TZNAME:EDT
END:DAYLIGHT
END:VTIMEZONE
END:VCALENDAR