BEGIN:VCALENDAR
VERSION:2.0
PRODID:-//wp-events-plugin.com//7.2.3.1//EN
TZID:America/Toronto
X-WR-TIMEZONE:America/Toronto
BEGIN:VEVENT
UID:181@ecole-secondairedeneufchatel.cssc.gouv.qc.ca
DTSTART;TZID=America/Toronto:20260603T183000
DTEND;TZID=America/Toronto:20260603T213000
DTSTAMP:20260203T135739Z
URL:https://ecole-secondairedeneufchatel.cssc.gouv.qc.ca/evenements/palmar
 es-1er-cycle/
SUMMARY:Palmares (1er cycle)
DESCRIPTION:La soirée Palmarès de l’école secondaire de Neufchâtel me
 ttra à l’honneur les élèves pour leurs performances académiques\, le
 ur persévérance\, leur implication scolaire ainsi que leurs réussites d
 ans divers autres domaines. C’est un moment de reconnaissance et de cél
 ébration\, qui souligne le travail\, l’engagement et le talent de chacu
 n. Une occasion de féliciter et d’inspirer tous les membres de la commu
 nauté scolaire.
CATEGORIES:Musique
END:VEVENT
BEGIN:VTIMEZONE
TZID:America/Toronto
X-LIC-LOCATION:America/Toronto
BEGIN:DAYLIGHT
DTSTART:20260308T030000
TZOFFSETFROM:-0500
TZOFFSETTO:-0400
TZNAME:EDT
END:DAYLIGHT
END:VTIMEZONE
END:VCALENDAR