BEGIN:VCALENDAR
VERSION:2.0
PRODID:-//wp-events-plugin.com//7.2.3.1//EN
TZID:America/Toronto
X-WR-TIMEZONE:America/Toronto
BEGIN:VEVENT
UID:173@ecole-secondairedeneufchatel.cssc.gouv.qc.ca
DTSTART;TZID=America/Toronto:20260220T183000
DTEND;TZID=America/Toronto:20260220T213000
DTSTAMP:20260203T134207Z
URL:https://ecole-secondairedeneufchatel.cssc.gouv.qc.ca/evenements/neufch
 atel-a-du-talent-2/
SUMMARY:Neufchâtel a du talent!
DESCRIPTION:Le 20 février 2026\, l’école secondaire de Neufchâtel vibr
 era au rythme de son spectacle de talents multidisciplinaire. Les élèves
  monteront sur scène pour partager leur créativité à travers la musiqu
 e\, le chant\, la danse et l’humour. Cette soirée promet des performanc
 es variées\, originales et inspirantes\, mettant en lumière la passion e
 t le talent des jeunes artistes de l’école. Un événement rassembleur 
 à ne pas manquer !
CATEGORIES:Artistique,Journée pédagogique
END:VEVENT
BEGIN:VTIMEZONE
TZID:America/Toronto
X-LIC-LOCATION:America/Toronto
BEGIN:STANDARD
DTSTART:20251102T010000
TZOFFSETFROM:-0400
TZOFFSETTO:-0500
TZNAME:EST
END:STANDARD
END:VTIMEZONE
END:VCALENDAR