BEGIN:VCALENDAR
VERSION:2.0
PRODID:-//wp-events-plugin.com//7.2.3.1//EN
TZID:America/Toronto
X-WR-TIMEZONE:America/Toronto
BEGIN:VEVENT
UID:127@ecole-secondairedeneufchatel.cssc.gouv.qc.ca
DTSTART;TZID=America/Toronto;VALUE=DATE:20240408
DTEND;TZID=America/Toronto;VALUE=DATE:20240409
DTSTAMP:20230913T191747Z
URL:https://ecole-secondairedeneufchatel.cssc.gouv.qc.ca/evenements/journe
 e-pedagogique-10/
SUMMARY:Journée pédagogique
DESCRIPTION:Journée pédagogique annulée en cas de 1ère fermeture
CATEGORIES:Journée pédagogique
END:VEVENT
BEGIN:VTIMEZONE
TZID:America/Toronto
X-LIC-LOCATION:America/Toronto
BEGIN:DAYLIGHT
DTSTART:20240310T030000
TZOFFSETFROM:-0500
TZOFFSETTO:-0400
TZNAME:EDT
END:DAYLIGHT
END:VTIMEZONE
END:VCALENDAR