BEGIN:VCALENDAR
VERSION:2.0
PRODID:-//wp-events-plugin.com//7.2.3.1//EN
TZID:America/Toronto
X-WR-TIMEZONE:America/Toronto
BEGIN:VEVENT
UID:59@ecole-secondairedeneufchatel.cssc.gouv.qc.ca
DTSTART;TZID=America/Toronto:20220905T000000
DTEND;TZID=America/Toronto:20220905T000000
DTSTAMP:20220715T122419Z
URL:https://ecole-secondairedeneufchatel.cssc.gouv.qc.ca/evenements/journe
 e-de-conge-5/
SUMMARY:Journée de congé
DESCRIPTION:
CATEGORIES:Journée de congé
END:VEVENT
BEGIN:VTIMEZONE
TZID:America/Toronto
X-LIC-LOCATION:America/Toronto
BEGIN:DAYLIGHT
DTSTART:20220313T030000
TZOFFSETFROM:-0500
TZOFFSETTO:-0400
TZNAME:EDT
END:DAYLIGHT
END:VTIMEZONE
END:VCALENDAR