BEGIN:VCALENDAR
VERSION:2.0
PRODID:-//wp-events-plugin.com//7.2.3.1//EN
TZID:America/Toronto
X-WR-TIMEZONE:America/Toronto
BEGIN:VEVENT
UID:115@ecole-secondairedeneufchatel.cssc.gouv.qc.ca
DTSTART;TZID=America/Toronto:20230127T121000
DTEND;TZID=America/Toronto:20230127T131500
DTSTAMP:20230119T185034Z
URL:https://ecole-secondairedeneufchatel.cssc.gouv.qc.ca/evenements/journe
 e-annees-80/
SUMMARY:Journée Années 80
DESCRIPTION:Cette année nos élèves finissants offrent la possibilité à
  tous les élèves de l’école de participer aux journées thématiques 
 de l’école.\nPour faire un historique\, celles-ci sont exclusives à no
 s élèves de 5e secondaire. Or pour financer les activités des finissant
 s\, l’école entière peut y participer moyennant une modique somme d’
 argent. Inscription requise.\n&nbsp\;\n\n
CATEGORIES:Communautaire,Finissants,Sportif
END:VEVENT
BEGIN:VTIMEZONE
TZID:America/Toronto
X-LIC-LOCATION:America/Toronto
BEGIN:STANDARD
DTSTART:20221106T010000
TZOFFSETFROM:-0400
TZOFFSETTO:-0500
TZNAME:EST
END:STANDARD
END:VTIMEZONE
END:VCALENDAR