BEGIN:VCALENDAR
VERSION:2.0
PRODID:-//wp-events-plugin.com//7.2.3.1//EN
TZID:America/Toronto
X-WR-TIMEZONE:America/Toronto
BEGIN:VEVENT
UID:116@ecole-secondairedeneufchatel.cssc.gouv.qc.ca
DTSTART;TZID=America/Toronto:20230206T000000
DTEND;TZID=America/Toronto:20230214T000000
DTSTAMP:20230129T181923Z
URL:https://ecole-secondairedeneufchatel.cssc.gouv.qc.ca/evenements/inscri
 ption-pour-lannee-2023-2024/
SUMMARY:Inscription pour l'année 2023-2024
DESCRIPTION:La période d’admission et d’inscription aura lieu du 6 au
  14 février 2023.  \n\nPour plus de détails\, visité le site du Centr
 e de services scolaire de la Capitale.
CATEGORIES:Administratif
END:VEVENT
BEGIN:VTIMEZONE
TZID:America/Toronto
X-LIC-LOCATION:America/Toronto
BEGIN:STANDARD
DTSTART:20221106T010000
TZOFFSETFROM:-0400
TZOFFSETTO:-0500
TZNAME:EST
END:STANDARD
END:VTIMEZONE
END:VCALENDAR