BEGIN:VCALENDAR
VERSION:2.0
PRODID:-//wp-events-plugin.com//7.2.3.1//EN
TZID:America/Toronto
X-WR-TIMEZONE:America/Toronto
BEGIN:VEVENT
UID:183@ecole-secondairedeneufchatel.cssc.gouv.qc.ca
DTSTART;TZID=America/Toronto:20260212T120000
DTEND;TZID=America/Toronto:20260212T131500
DTSTAMP:20260203T163246Z
URL:https://ecole-secondairedeneufchatel.cssc.gouv.qc.ca/evenements/fillac
 tive-pickleball/
SUMMARY:FILLACTIVE - Pickleball
DESCRIPTION:\n Avis à toutes les filles de l’école! \n\n\n\nNous vous i
 nvitons à venir participer à la programmation des activités du midi\, o
 fferte jusqu’au mois de février.\n\n\nUne belle occasion de bouger\, de
  s’amuser et de passer de bons moments entre filles! \n\n\nOn vous atten
 d en grand nombre!\n\n\n12 février pickleball (Gym C)
CATEGORIES:Sportif
END:VEVENT
BEGIN:VTIMEZONE
TZID:America/Toronto
X-LIC-LOCATION:America/Toronto
BEGIN:STANDARD
DTSTART:20251102T010000
TZOFFSETFROM:-0400
TZOFFSETTO:-0500
TZNAME:EST
END:STANDARD
END:VTIMEZONE
END:VCALENDAR