BEGIN:VCALENDAR
VERSION:2.0
PRODID:-//wp-events-plugin.com//7.2.3.1//EN
TZID:America/Toronto
X-WR-TIMEZONE:America/Toronto
BEGIN:VEVENT
UID:54@ecole-secondairedeneufchatel.cssc.gouv.qc.ca
DTSTART;TZID=America/Toronto;VALUE=DATE:20220831
DTEND;TZID=America/Toronto;VALUE=DATE:20220901
DTSTAMP:20220829T120151Z
URL:https://ecole-secondairedeneufchatel.cssc.gouv.qc.ca/evenements/debut-
 des-cours/
SUMMARY:Début des cours
DESCRIPTION:Les cours débutent le mercredi 31 août 2022\, jour 3 : dès c
 ette date\, votre enfant doit avoir tout le matériel nécessaire. Si sur 
 son horaire\, il est indiqué un cours d'éducation physique dès la premi
 ère journée\, il doit apporter son costume d'éducation physique et ses 
 espadrilles.
CATEGORIES:Administratif
END:VEVENT
BEGIN:VTIMEZONE
TZID:America/Toronto
X-LIC-LOCATION:America/Toronto
BEGIN:DAYLIGHT
DTSTART:20220313T030000
TZOFFSETFROM:-0500
TZOFFSETTO:-0400
TZNAME:EDT
END:DAYLIGHT
END:VTIMEZONE
END:VCALENDAR