BEGIN:VCALENDAR
VERSION:2.0
PRODID:-//wp-events-plugin.com//7.2.3.1//EN
TZID:America/Toronto
X-WR-TIMEZONE:America/Toronto
BEGIN:VEVENT
UID:174@ecole-secondairedeneufchatel.cssc.gouv.qc.ca
DTSTART;TZID=America/Toronto:20260501T183000
DTEND;TZID=America/Toronto:20260501T213000
DTSTAMP:20260330T141428Z
URL:https://ecole-secondairedeneufchatel.cssc.gouv.qc.ca/evenements/comedi
 e-musicale/
SUMMARY:Comédie Musicale
DESCRIPTION:Le 1er mai 2026\, l’école secondaire de Neufchâtel présent
 era une comédie musicale réalisée dans le cadre d’une activité paras
 colaire. Alliant chant\, danse et théâtre\, ce spectacle mettra en valeu
 r le talent\, la créativité et l’engagement des élèves. Une soirée 
 divertissante et rassembleuse qui promet de faire vibrer le public.
CATEGORIES:Artistique
END:VEVENT
BEGIN:VTIMEZONE
TZID:America/Toronto
X-LIC-LOCATION:America/Toronto
BEGIN:DAYLIGHT
DTSTART:20260308T030000
TZOFFSETFROM:-0500
TZOFFSETTO:-0400
TZNAME:EDT
END:DAYLIGHT
END:VTIMEZONE
END:VCALENDAR