BEGIN:VCALENDAR
VERSION:2.0
PRODID:-//wp-events-plugin.com//7.2.3.1//EN
TZID:America/Toronto
X-WR-TIMEZONE:America/Toronto
BEGIN:VEVENT
UID:117@ecole-secondairedeneufchatel.cssc.gouv.qc.ca
DTSTART;TZID=America/Toronto:20230313T000000
DTEND;TZID=America/Toronto:20230317T000000
DTSTAMP:20230129T190757Z
URL:https://ecole-secondairedeneufchatel.cssc.gouv.qc.ca/evenements/choix-
 de-cours-2023-2024/
SUMMARY:Choix de cours 2023-2024
DESCRIPTION:La période des choix de cours pour l'année scolaire 2023-2024
  se tiendra du 13 au 17 mars prochain.\n\nUn document sera bientôt envoy
 é aux personnes concernées.
CATEGORIES:Administratif
END:VEVENT
BEGIN:VTIMEZONE
TZID:America/Toronto
X-LIC-LOCATION:America/Toronto
BEGIN:DAYLIGHT
DTSTART:20230312T030000
TZOFFSETFROM:-0500
TZOFFSETTO:-0400
TZNAME:EDT
END:DAYLIGHT
END:VTIMEZONE
END:VCALENDAR