BEGIN:VCALENDAR
VERSION:2.0
PRODID:-//wp-events-plugin.com//7.2.3.1//EN
TZID:America/Toronto
X-WR-TIMEZONE:America/Toronto
BEGIN:VEVENT
UID:52@ecole-secondairedeneufchatel.cssc.gouv.qc.ca
DTSTART;TZID=America/Toronto:20220824T180000
DTEND;TZID=America/Toronto:20220824T180000
DTSTAMP:20220715T121413Z
URL:https://ecole-secondairedeneufchatel.cssc.gouv.qc.ca/evenements/assemb
 lee-generale-pour-tous-les-parents/
SUMMARY:Assemblée générale pour tous les parents
DESCRIPTION:
CATEGORIES:Administratif
END:VEVENT
BEGIN:VTIMEZONE
TZID:America/Toronto
X-LIC-LOCATION:America/Toronto
BEGIN:DAYLIGHT
DTSTART:20220313T030000
TZOFFSETFROM:-0500
TZOFFSETTO:-0400
TZNAME:EDT
END:DAYLIGHT
END:VTIMEZONE
END:VCALENDAR