BEGIN:VCALENDAR
VERSION:2.0
PRODID:-//wp-events-plugin.com//7.2.3.1//EN
TZID:America/Toronto
X-WR-TIMEZONE:America/Toronto
BEGIN:VEVENT
UID:50@ecole-secondairedeneufchatel.cssc.gouv.qc.ca
DTSTART;TZID=America/Toronto;VALUE=DATE:20220819
DTEND;TZID=America/Toronto;VALUE=DATE:20220820
DTSTAMP:20220715T121312Z
URL:https://ecole-secondairedeneufchatel.cssc.gouv.qc.ca/evenements/accuei
 l-administratif-2022-2023/
SUMMARY:Accueil administratif 2022-2023
DESCRIPTION:Dans le cadre des journées d'accueil des 19 et 22 août 2022\,
  nous vous demandons de prendre connaissance des informations suivantes\, 
 préparées à votre intention.
CATEGORIES:Administratif
END:VEVENT
BEGIN:VTIMEZONE
TZID:America/Toronto
X-LIC-LOCATION:America/Toronto
BEGIN:DAYLIGHT
DTSTART:20220313T030000
TZOFFSETFROM:-0500
TZOFFSETTO:-0400
TZNAME:EDT
END:DAYLIGHT
END:VTIMEZONE
END:VCALENDAR